BEGIN:VCALENDAR
VERSION:2.0
PRODID:-//Dennis James Classic - ECPv4.6.23//NONSGML v1.0//EN
CALSCALE:GREGORIAN
METHOD:PUBLISH
X-WR-CALNAME:Dennis James Classic
X-ORIGINAL-URL:https://www.dennisjamesclassic.de
X-WR-CALDESC:Events for Dennis James Classic
BEGIN:VEVENT
DTSTART;TZID=Europe/Berlin:20181027T080000
DTEND;TZID=Europe/Berlin:20181027T170000
DTSTAMP:20260420T102936
CREATED:20171201T105036Z
LAST-MODIFIED:20190109T184739Z
UID:3090-1540627200-1540659600@www.dennisjamesclassic.de
SUMMARY:Dennis James Classic 2019
DESCRIPTION:
URL:https://www.dennisjamesclassic.de/events/3090/
ATTACH;FMTTYPE=image/jpeg:https://www.dennisjamesclassic.de/wp-content/uploads/2017/12/DENNISGERMANY1068x5342019website.jpg
END:VEVENT
END:VCALENDAR